BEGIN:VCALENDAR
VERSION:2.0
PRODID:-//Maiden Newton and Frome Vauchurch Parish Council - ECPv6.15.20//NONSGML v1.0//EN
CALSCALE:GREGORIAN
METHOD:PUBLISH
X-WR-CALNAME:Maiden Newton and Frome Vauchurch Parish Council
X-ORIGINAL-URL:https://maidennewtonandfromevauchurch-pc.gov.uk
X-WR-CALDESC:Events for Maiden Newton and Frome Vauchurch Parish Council
REFRESH-INTERVAL;VALUE=DURATION:PT1H
X-Robots-Tag:noindex
X-PUBLISHED-TTL:PT1H
BEGIN:VTIMEZONE
TZID:Europe/London
BEGIN:DAYLIGHT
TZOFFSETFROM:+0000
TZOFFSETTO:+0100
TZNAME:BST
DTSTART:20250330T010000
END:DAYLIGHT
BEGIN:STANDARD
TZOFFSETFROM:+0100
TZOFFSETTO:+0000
TZNAME:GMT
DTSTART:20251026T010000
END:STANDARD
BEGIN:DAYLIGHT
TZOFFSETFROM:+0000
TZOFFSETTO:+0100
TZNAME:BST
DTSTART:20260329T010000
END:DAYLIGHT
BEGIN:STANDARD
TZOFFSETFROM:+0100
TZOFFSETTO:+0000
TZNAME:GMT
DTSTART:20261025T010000
END:STANDARD
BEGIN:DAYLIGHT
TZOFFSETFROM:+0000
TZOFFSETTO:+0100
TZNAME:BST
DTSTART:20270328T010000
END:DAYLIGHT
BEGIN:STANDARD
TZOFFSETFROM:+0100
TZOFFSETTO:+0000
TZNAME:GMT
DTSTART:20271031T010000
END:STANDARD
END:VTIMEZONE
BEGIN:VEVENT
DTSTART;TZID=Europe/London:20260305T190000
DTEND;TZID=Europe/London:20260305T190000
DTSTAMP:20260423T181217
CREATED:20250227T171948Z
LAST-MODIFIED:20260330T183959Z
UID:1981-1772737200-1772737200@maidennewtonandfromevauchurch-pc.gov.uk
SUMMARY:Parish Council meeting
DESCRIPTION:This meeting will be held at Maiden Newton Village Hall. Members of the public are welcome to attend; please see the agenda for more details.
URL:https://maidennewtonandfromevauchurch-pc.gov.uk/event/parish-council-meeting-20
LOCATION:Village Hall
CATEGORIES:Parish Council Meetings
END:VEVENT
BEGIN:VEVENT
DTSTART;TZID=Europe/London:20260409T183000
DTEND;TZID=Europe/London:20260409T183000
DTSTAMP:20260423T181217
CREATED:20260330T183656Z
LAST-MODIFIED:20260417T150502Z
UID:2593-1775759400-1775759400@maidennewtonandfromevauchurch-pc.gov.uk
SUMMARY:Parish Council meeting
DESCRIPTION:This meeting will be held at Maiden Newton Village Hall. Members of the public are welcome to attend; please see the agenda for more details.
URL:https://maidennewtonandfromevauchurch-pc.gov.uk/event/parish-council-meeting-18
LOCATION:Village Hall
CATEGORIES:Parish Council Meetings
END:VEVENT
BEGIN:VEVENT
DTSTART;TZID=Europe/London:20260507T190000
DTEND;TZID=Europe/London:20260507T190000
DTSTAMP:20260423T181217
CREATED:20260330T183753Z
LAST-MODIFIED:20260330T183753Z
UID:2596-1778180400-1778180400@maidennewtonandfromevauchurch-pc.gov.uk
SUMMARY:Parish Council meeting
DESCRIPTION:This meeting will be held at Maiden Newton Village Hall. Members of the public are welcome to attend; please see the agenda for more details.
URL:https://maidennewtonandfromevauchurch-pc.gov.uk/event/parish-council-meeting-21
LOCATION:Village Hall
CATEGORIES:Parish Council Meetings
END:VEVENT
END:VCALENDAR